

BEGIN:VCALENDAR
VERSION:2.0
PRODID:-//hacksw/handcal//NONSGML v1.0//EN
CALSCALE:GREGORIAN
BEGIN:VEVENT
DTEND:20150222T213000
UID:5c790ef1e4b1a
DTSTAMP:20190301T215233
LOCATION:Glen Eira Town Hall Glen Eira Rd\,  Caulfield 3162 VIC
DESCRIPTION:Concert for Chopin's 205th Birthday with Alan Kogosowski on piano&nbsp\;accompanying three sopranos\,&nbsp\;
Emily Xiao Wang\, Taryn Sliver and Galit Klas.
A wonderful night to remember with many well known Melodies&nbsp\;
URL;VALUE=URI:http://www.caulfieldrotary.org.au/event/10261
SUMMARY:Alan Kogosowski and The Sopranos
DTSTART:20150222T190000
END:VEVENT
END:VCALENDAR

