

BEGIN:VCALENDAR
VERSION:2.0
PRODID:-//hacksw/handcal//NONSGML v1.0//EN
CALSCALE:GREGORIAN
BEGIN:VEVENT
DTEND:20150523T140000
UID:5c790f67b88cd
DTSTAMP:20190301T215431
LOCATION:rear of Woolworths Glenhuntly Road Glenhuntly 3163 VIC
DESCRIPTION:Our fun loving BBQ with great customers and great staff
Lots of laughter for all.
URL;VALUE=URI:http://www.caulfieldrotary.org.au/event/10991
SUMMARY:Fundraising BBQ
DTSTART:20150523T093000
END:VEVENT
END:VCALENDAR

