

BEGIN:VCALENDAR
VERSION:2.0
PRODID:-//hacksw/handcal//NONSGML v1.0//EN
CALSCALE:GREGORIAN
BEGIN:VEVENT
DTEND:20150328T140000
UID:5c790f0ce3bfb
DTSTAMP:20190301T215300
LOCATION:Woolworths Glenhuntly Glenhuntly Road Glen Huntly 3163 VIC
DESCRIPTION:Time for&nbsp\; fun&nbsp\; and laughter.
Our barbeques tend to be a great fellowship time within our club and with our regular customers
URL;VALUE=URI:http://www.caulfieldrotary.org.au/event/11429
SUMMARY:FUNdraising BBQ
DTSTART:20150328T093000
END:VEVENT
END:VCALENDAR

