

BEGIN:VCALENDAR
VERSION:2.0
PRODID:-//hacksw/handcal//NONSGML v1.0//EN
CALSCALE:GREGORIAN
BEGIN:VEVENT
DTEND:20150416T150000
UID:5c790f38a86ce
DTSTAMP:20190301T215344
LOCATION:to Ballarat Ballarat Station Ballarat  VIC
DESCRIPTION:
URL;VALUE=URI:http://www.caulfieldrotary.org.au/event/11432
SUMMARY:Fellowship outing
DTSTART:20150416T093000
END:VEVENT
END:VCALENDAR

