

BEGIN:VCALENDAR
VERSION:2.0
PRODID:-//hacksw/handcal//NONSGML v1.0//EN
CALSCALE:GREGORIAN
BEGIN:VEVENT
DTEND:20150502T150000
UID:5c790f4f8c969
DTSTAMP:20190301T215407
LOCATION:Cardinia Cultural Centre Lakeside Boulevard Pakenham 3810 VIC
DESCRIPTION:A great Expo with a variety of stands for Sustainable products.
We will have a BEE friendly stall with childrens activities\, information on how to Help Bees to Survive and how they work
Also list of plants they like being around.
URL;VALUE=URI:http://www.caulfieldrotary.org.au/event/11439
SUMMARY:Cardinia Sustainability Expo
DTSTART:20150502T093000
END:VEVENT
END:VCALENDAR

