

BEGIN:VCALENDAR
VERSION:2.0
PRODID:-//hacksw/handcal//NONSGML v1.0//EN
CALSCALE:GREGORIAN
BEGIN:VEVENT
DTEND:20150711T140000
UID:5c790fbd2f4d5
DTSTAMP:20190301T215557
LOCATION:back of Woolworths Glen Huntly Rd Glen Huntly 3163 VIC
DESCRIPTION:
URL;VALUE=URI:http://www.caulfieldrotary.org.au/event/12500
SUMMARY:Fundraising BBQ
DTSTART:20150711T093000
END:VEVENT
END:VCALENDAR

