

BEGIN:VCALENDAR
VERSION:2.0
PRODID:-//hacksw/handcal//NONSGML v1.0//EN
CALSCALE:GREGORIAN
BEGIN:VEVENT
DTEND:20150926T000000
UID:5c790f41337a1
DTSTAMP:20190301T215353
LOCATION:back of Woolworths Glen Huntly Rd Glen Huntly 3163 VIC
DESCRIPTION:
URL;VALUE=URI:http://www.caulfieldrotary.org.au/event/12516
SUMMARY:Fundraising BBQ
DTSTART:20150926T000000
END:VEVENT
END:VCALENDAR

