

BEGIN:VCALENDAR
VERSION:2.0
PRODID:-//hacksw/handcal//NONSGML v1.0//EN
CALSCALE:GREGORIAN
BEGIN:VEVENT
DTEND:20151029T000000
UID:5c790f28ed5f7
DTSTAMP:20190301T215328
LOCATION:Glen Eira Town Hall cnr Hawthorn Rd and Glen Eira Roads Caulfield 3162 VIC
DESCRIPTION:
URL;VALUE=URI:http://www.caulfieldrotary.org.au/event/13284
SUMMARY:Alan Kogosowski in Concert
DTSTART:20151029T000000
END:VEVENT
END:VCALENDAR

