

BEGIN:VCALENDAR
VERSION:2.0
PRODID:-//hacksw/handcal//NONSGML v1.0//EN
CALSCALE:GREGORIAN
BEGIN:VEVENT
DTEND:20151206T123000
UID:5c790f140b49a
DTSTAMP:20190301T215308
LOCATION:Factory 4 35 Taunton Drive Cheltenham 3192 VIC
DESCRIPTION:
URL;VALUE=URI:http://www.caulfieldrotary.org.au/event/15332
SUMMARY:Impact for Women Packing Day
DTSTART:20151206T100000
END:VEVENT
END:VCALENDAR

