

BEGIN:VCALENDAR
VERSION:2.0
PRODID:-//hacksw/handcal//NONSGML v1.0//EN
CALSCALE:GREGORIAN
BEGIN:VEVENT
DTEND:20160122T093000
UID:5c790edaba6dc
DTSTAMP:20190301T215210
LOCATION:Glen Eira Town Hall cnr Hawthorn Rd and Glen Eira Rd Caulfield 3162 VIC
DESCRIPTION:
URL;VALUE=URI:http://www.caulfieldrotary.org.au/event/16075
SUMMARY:Australia Day Breakfast
DTSTART:20160122T073000
END:VEVENT
END:VCALENDAR

