

BEGIN:VCALENDAR
VERSION:2.0
PRODID:-//hacksw/handcal//NONSGML v1.0//EN
CALSCALE:GREGORIAN
BEGIN:VEVENT
DTEND:20160313T173000
UID:5c790e888d731
DTSTAMP:20190301T215048
LOCATION:Ulumbarra Theatre near Barnard St. Bendigo 3550 VIC
DESCRIPTION:
URL;VALUE=URI:http://www.caulfieldrotary.org.au/event/16083
SUMMARY:District 9800 Conference
DTSTART:20160311T193000
END:VEVENT
END:VCALENDAR

