

BEGIN:VCALENDAR
VERSION:2.0
PRODID:-//hacksw/handcal//NONSGML v1.0//EN
CALSCALE:GREGORIAN
BEGIN:VEVENT
DTEND:20160414T170000
UID:5c790e175bfa9
DTSTAMP:20190301T214855
LOCATION:Glen Eira Town Hall cnr Hawthorn Rd and Glen Eira Rd Caulfield 3162 VIC
DESCRIPTION:Come and see some&nbsp\;wonderful works of art.
There might be that "Right" work to hang in your home or office.&nbsp\; Or as a gift.
Artists will be available whilst the Exhibition is open so you will be able to ask questions that might be tickling your imagination.
&nbsp\;
&nbsp\;
Gallery open Mondays to Fridays&nbsp\;&nbsp\;&nbsp\;&nbsp\;&nbsp\;&nbsp\;&nbsp\;&nbsp\;&nbsp\; 10am to 5pm
&nbsp\;&nbsp\;&nbsp\;&nbsp\;&nbsp\;&nbsp\;&nbsp\;&nbsp\;&nbsp\;&nbsp\;&nbsp\;&nbsp\;&nbsp\;&nbsp\;&nbsp\;&nbsp\;&nbsp\;&nbsp\; Saturdays and Sundays&nbsp\;&nbsp\;&nbsp\; 2pm to 5pm.
Open from 14th March to 1st April
URL;VALUE=URI:http://www.caulfieldrotary.org.au/event/18034
SUMMARY:Exhibition of Glen Eira Artists Society
DTSTART:20160414T100000
END:VEVENT
END:VCALENDAR

