

BEGIN:VCALENDAR
VERSION:2.0
PRODID:-//hacksw/handcal//NONSGML v1.0//EN
CALSCALE:GREGORIAN
BEGIN:VEVENT
DTEND:20160925T180000
UID:5c790e9fbfa7d
DTSTAMP:20190301T215111
LOCATION:St John's Uniting Church 567 Glenhuntly Rd Elsternwick 3185 VIC
DESCRIPTION:Alan Kogosowski with Friends will entertain us on the piano.
Talented playing by these two students of Alan's.
You will be amazed at&nbsp\;what they can share with us.
&nbsp\;
Afternoon Tea will be provided.
St John's Uniting Church is a wonderful venue.
&nbsp\;
St John's Uniting Church
567 Glenhuntly Road
Elsternwick.&nbsp\; (Between Kooyong Rd and Orrong Rd not far from the park)
URL;VALUE=URI:http://www.caulfieldrotary.org.au/event/20393
SUMMARY:Popular Piano Classics with Alan Kogosowski and Friends
DTSTART:20160925T150000
END:VEVENT
END:VCALENDAR

