

BEGIN:VCALENDAR
VERSION:2.0
PRODID:-//hacksw/handcal//NONSGML v1.0//EN
CALSCALE:GREGORIAN
BEGIN:VEVENT
DTEND:20161106T160000
UID:5c790ee9bc215
DTSTAMP:20190301T215225
LOCATION:Elsternwick Plaza Glen Huntly Rd between Station and Orrong Rd Elsternwick 3185 VIC
DESCRIPTION:Come and watch the artists working in the street in the area bounded by Elsternwick Plaza (Elsternwick Station) and Orrong Road Elsternwick.
and surrounding streets.
Children's activities will be set up in Elsternwick Plaza.&nbsp\; Look out for the fun.
Local artists are encouraged to Sketch\, Pain\, Draw or take photographs alongside the GEAS artists.
More details on the GEAS Website www.gleneiraartistssociety.org
or phone Heather on (03)9568 7190 or Rachel 0438 774 679
The Exhibition of completed&nbsp\;artworks will be displayed at the Glen Eira City Council Gallery Annexe from 26th November to 11th December.
corner Glen Eira and Hawthorn Roads\, Caulfield
Admission&nbsp\; FREE
Gallery hours:- Monday to Friday 10am to 5pm
&nbsp\;&nbsp\;&nbsp\;&nbsp\;&nbsp\;&nbsp\;&nbsp\;&nbsp\;&nbsp\;&nbsp\;&nbsp\;&nbsp\;&nbsp\;&nbsp\;&nbsp\;&nbsp\;&nbsp\;&nbsp\;&nbsp\;&nbsp\;&nbsp\;&nbsp\; Weekends 1pm to 5pm&nbsp\;&nbsp\; (Closed Public Holidays).
URL;VALUE=URI:http://www.caulfieldrotary.org.au/event/20400
SUMMARY:Cityscape of Glen Eira Artists Society
DTSTART:20161106T100000
END:VEVENT
END:VCALENDAR

