

BEGIN:VCALENDAR
VERSION:2.0
PRODID:-//hacksw/handcal//NONSGML v1.0//EN
CALSCALE:GREGORIAN
BEGIN:VEVENT
DTEND:20161211T050000
UID:5c790f03d959b
DTSTAMP:20190301T215251
LOCATION:Glen Eira City Council Gallery Annexe cnr Hawthorn Rd and Glen Eira Rd Caulfield 3162 VIC
DESCRIPTION:
URL;VALUE=URI:http://www.caulfieldrotary.org.au/event/22031
SUMMARY:Exhibition of Glen Eira Artists Society
DTSTART:20161126T130000
END:VEVENT
END:VCALENDAR

