

BEGIN:VCALENDAR
VERSION:2.0
PRODID:-//hacksw/handcal//NONSGML v1.0//EN
CALSCALE:GREGORIAN
BEGIN:VEVENT
DTEND:20170223T200000
UID:5c790f1c18176
DTSTAMP:20190301T215316
LOCATION:Cilantro Restaurant South Road Moorabbin  VIC
DESCRIPTION:
URL;VALUE=URI:http://www.caulfieldrotary.org.au/event/26427
SUMMARY:55th Anniversary
DTSTART:20170223T180000
END:VEVENT
END:VCALENDAR

