

BEGIN:VCALENDAR
VERSION:2.0
PRODID:-//hacksw/handcal//NONSGML v1.0//EN
CALSCALE:GREGORIAN
BEGIN:VEVENT
DTEND:20171024T160000
UID:5c790f5dec07f
DTSTAMP:20190301T215421
LOCATION:Glen Eira Town Hall Auditorium cnr Hawthorn and Glen Eira Roads\, Caulfield 3165 VIC
DESCRIPTION:
URL;VALUE=URI:http://www.caulfieldrotary.org.au/event/29025
SUMMARY:Seniors Concert with Alan Kogosowski
DTSTART:20171024T140000
END:VEVENT
END:VCALENDAR

