

BEGIN:VCALENDAR
VERSION:2.0
PRODID:-//hacksw/handcal//NONSGML v1.0//EN
CALSCALE:GREGORIAN
BEGIN:VEVENT
DTEND:20181023T170000
UID:5c790ffc01415
DTSTAMP:20190301T215659
LOCATION:Glen Eira Town hall Auditorium cnr Hawthorn and Glen Eira Rds Caulfield 3163 VIC
DESCRIPTION:
URL;VALUE=URI:http://www.caulfieldrotary.org.au/event/34240
SUMMARY:Senior's Concert
DTSTART:20181023T150000
END:VEVENT
END:VCALENDAR

