

BEGIN:VCALENDAR
VERSION:2.0
PRODID:-//hacksw/handcal//NONSGML v1.0//EN
CALSCALE:GREGORIAN
BEGIN:VEVENT
DTEND:20141030T143000
UID:5c790ed4703f7
DTSTAMP:20190301T215204
LOCATION:The Meeting Hub  438 Neerim Rd Murrumbeena 3163 VIC
DESCRIPTION:This Fellowship day and we are going elsewhere for the meeting.
URL;VALUE=URI:http://www.caulfieldrotary.org.au/event/8463
SUMMARY:Weekly Meeting
DTSTART:20141030T123000
END:VEVENT
END:VCALENDAR

